BEGIN:VCALENDAR
VERSION:2.0
PRODID:-//ChamberMaster//Event Calendar 2.0//EN
METHOD:PUBLISH
X-PUBLISHED-TTL:P3D
REFRESH-INTERVAL:P3D
CALSCALE:GREGORIAN
BEGIN:VEVENT
DTSTART:20240918T210000Z
DTEND:20240918T230000Z
X-MICROSOFT-CDO-ALLDAYEVENT:FALSE
SUMMARY:MCCC Welcome Reception
DESCRIPTION:Join us in welcoming Dr. Ryan Crider at MCC-Longview's new President\n\n\n\nThe chancellor of Metropolitan Community College\, Dr. Kimberly\, Beatty would like to invite you to the welcome reception for our new MCC-Longview campus president\, Dr. Ryan Crider. Light appetizers will be served.
X-ALT-DESC;FMTTYPE=text/html:Join us in welcoming Dr. Ryan Crider at MCC-Longview&#39\;s new President<br />\n<br />\nThe chancellor of Metropolitan Community College\, Dr. Kimberly\, Beatty would like to invite you to the welcome reception for our new MCC-Longview campus president\, Dr. Ryan Crider. Light appetizers will be served.
LOCATION:Longview Education Center 500 SW Longview Rd\, Lee's Summit\, MO 64081
UID:e.2326.5116
SEQUENCE:3
DTSTAMP:20260423T184005Z
URL:http://raytownchamber.chambermaster.com/events/details/mccc-welcome-reception-5116
END:VEVENT

END:VCALENDAR
