BEGIN:VCALENDAR
VERSION:2.0
PRODID:-//ChamberMaster//Event Calendar 2.0//EN
METHOD:PUBLISH
X-PUBLISHED-TTL:P3D
REFRESH-INTERVAL:P3D
CALSCALE:GREGORIAN
BEGIN:VEVENT
DTSTART:20240730T163000Z
DTEND:20240730T173000Z
X-MICROSOFT-CDO-ALLDAYEVENT:FALSE
SUMMARY:Remote Lunch & Learn
DESCRIPTION:Understanding the Corporate Transparency Act by William E. Quick\, Polsinelli PC\n\nConsidered the furthest and widest-reaching federal business entity law ever enacted\, the Corporate Transparency Act (CTA) affects tens of millions of business owners and investors.
X-ALT-DESC;FMTTYPE=text/html:<span style="font-family: &quot\;gill sans mt&quot\;\, sans-serif\;"><span style="font-size: 14pt\;">Understanding the Corporate Transparency Act by William E. Quick\, Polsinelli PC</span></span><br />\n<em><span style="font-size:14px\;"><span style="color: rgb(53\, 62\, 71)\; font-family: &quot\;Neue Helvetica W05&quot\;\, sans-serif\; letter-spacing: 0.391447px\;">Considered the furthest and widest-reaching federal business entity law ever enacted\, the Corporate Transparency Act (CTA) affects tens of millions of business owners and investors.&nbsp\;</span></span></em><br />\n<br />\n<br />\n&nbsp\;
LOCATION:via Zoom (a link to be provided by email on July 26th)
UID:e.2326.5046
SEQUENCE:3
DTSTAMP:20260422T191251Z
URL:http://raytownchamber.chambermaster.com/events/details/remote-lunch-learn-5046
END:VEVENT

END:VCALENDAR
